BEGIN:VCALENDAR
VERSION:2.0
PRODID:-//ChamberMaster//Event Calendar 2.0//EN
METHOD:PUBLISH
X-PUBLISHED-TTL:P3D
REFRESH-INTERVAL:P3D
CALSCALE:GREGORIAN
BEGIN:VEVENT
DTSTART:20230718T223000Z
DTEND:20230719T003000Z
X-MICROSOFT-CDO-ALLDAYEVENT:FALSE
SUMMARY:2023 AG Appreciation Summer Cookout
DESCRIPTION:Chamber Agri-Business Committees AG Appreciation Summer Cookout\n\nThis event supports: 3rd Graders Day on the Farm\, Corn Soybean Growers\, Pork Producers\, 4-H\, FFA\, and the National Barrow Show.\n\n\n\nWindsor Chop Dinner\, Coleslaw\, Beans\, Beverages and Ice Cream  at the Mower County Fairgrounds.\n\n\n\nIndividual tickets are $19 in advance and are available now for purchase at the Chamber Office Monday through Friday 10am-3pm\, or $20 at the door
X-ALT-DESC;FMTTYPE=text/html:<span style="color: rgb(51\, 51\, 51)\; font-family: sans-serif\, Arial\, Verdana\, &quot\;Trebuchet MS&quot\;\; font-size: 13px\; background-color: rgb(255\, 255\, 255)\;">Chamber Agri-Business Committees AG Appreciation Summer Cookout<br />\nThis event supports: 3rd Graders Day on the Farm\, Corn Soybean Growers\, Pork Producers\, 4-H\, FFA\, and the National Barrow Show.</span><br style="color: rgb(51\, 51\, 51)\; font-family: sans-serif\, Arial\, Verdana\, &quot\;Trebuchet MS&quot\;\; font-size: 13px\;" />\n<br style="color: rgb(51\, 51\, 51)\; font-family: sans-serif\, Arial\, Verdana\, &quot\;Trebuchet MS&quot\;\; font-size: 13px\;" />\n<span style="color: rgb(51\, 51\, 51)\; font-family: sans-serif\, Arial\, Verdana\, &quot\;Trebuchet MS&quot\;\; font-size: 13px\; background-color: rgb(255\, 255\, 255)\;">Windsor Chop Dinner\, Coleslaw\, Beans\, Beverages and Ice Cream&nbsp\; at the Mower County Fairgrounds.</span><br style="color: rgb(51\, 51\, 51)\; font-family: sans-serif\, Arial\, Verdana\, &quot\;Trebuchet MS&quot\;\; font-size: 13px\;" />\n<br style="color: rgb(51\, 51\, 51)\; font-family: sans-serif\, Arial\, Verdana\, &quot\;Trebuchet MS&quot\;\; font-size: 13px\;" />\n<span style="color: rgb(51\, 51\, 51)\; font-family: sans-serif\, Arial\, Verdana\, &quot\;Trebuchet MS&quot\;\; font-size: 13px\; background-color: rgb(255\, 255\, 255)\;">Individual tickets are $19 in advance and are available now for purchase at the Chamber Office Monday through Friday 10am-3pm\, or $20 at the door</span>
LOCATION:Plager Building at Mower County Fairgrounds
UID:e.343.4801
SEQUENCE:3
DTSTAMP:20260420T051450Z
URL:https://austincoc-gzcms.preview.gochambermaster.com/events/details/2023-ag-appreciation-summer-cookout-4801
END:VEVENT

END:VCALENDAR
