BEGIN:VCALENDAR
VERSION:2.0
PRODID:-//ChamberMaster//Event Calendar 2.0//EN
METHOD:PUBLISH
X-PUBLISHED-TTL:P3D
REFRESH-INTERVAL:P3D
CALSCALE:GREGORIAN
BEGIN:VEVENT
DTSTART:20230916T230000Z
DTEND:20230917T040000Z
X-MICROSOFT-CDO-ALLDAYEVENT:FALSE
SUMMARY:2023 Soda Shops & Car Hops At Your Service Beneft- PayItForward
DESCRIPTION:Live Auction of some of our finest business services in the area!  If you have an upcoming project or service need - check out these folks that will be up for buying!\n\n\n\nT 'N G Plumbing $500 Value\n\nCCI Granite $500 Value\n\nVolt Electric $500 Value\n\nSouthwest Sales/Tranny Shop $500 Value\n\nVintage Vixen $500-$600 Value\n\nSarahWolfeHair $500-600 Value\n\nThompson Sanitation $700 Value\n\nWhiteLite Aesthetics $500 Value\n\nStyle Lounge / Mod MedSpa $1400 Value\n\nServPro $800 Value\n\nHoliday Inn Austin $500 Value\n\n\n\nWe will have live Music by Denny & DC Drifters that is sponsored by Nord/Haus Real Estate Group Matt Bartholomew & Guaranteed Rate Gabriel Lopes\n\n\n\nAuctioneer - Steve Moline\n\n\n\nThere will be Silent Auction items and lots more!!
X-ALT-DESC;FMTTYPE=text/html:Live Auction of some of our finest business services in the area!&nbsp\; If you have an upcoming project or service need - check out these folks that will be up for buying!<br />\n<br />\n<strong>T &#39\;N G Plumbing</strong> $500 Value<br />\n<strong>CCI Granite </strong>$500 Value<br />\n<strong>Volt Electric</strong> $500 Value<br />\n<strong>Southwest Sales/Tranny Shop</strong> $500 Value<br />\n<strong>Vintage Vixen</strong> $500-$600 Value<br />\n<strong>SarahWolfeHair</strong> $500-600 Value<br />\n<strong>Thompson Sanitation</strong> $700 Value<br />\n<strong>WhiteLite Aesthetics </strong>$500 Value<br />\n<strong>Style Lounge / Mod MedSpa</strong> $1400 Value<br />\n<strong>ServPro</strong> $800 Value<br />\n<strong>Holiday Inn Austin</strong> $500 Value<br />\n<br />\nWe will have live Music by&nbsp\;<strong>Denny &amp\; DC Drifters</strong>&nbsp\;that is sponsored by&nbsp\;<strong>Nord/Haus Real Estate Group Matt Bartholomew &amp\; Guaranteed Rate Gabriel Lopes</strong><br />\n<br />\nAuctioneer - <strong>Steve Moline</strong><br />\n<br />\nThere will be Silent Auction items and lots more!!<br />\n&nbsp\;
LOCATION:Holiday Inn Austin MN
UID:e.343.5203
SEQUENCE:3
DTSTAMP:20260420T020603Z
URL:https://austincoc-gzcms.preview.gochambermaster.com/events/details/2023-soda-shops-car-hops-at-your-service-beneft-payitforward-5203
END:VEVENT

END:VCALENDAR
