BEGIN:VCALENDAR
VERSION:2.0
PRODID:-//ChamberMaster//Event Calendar 2.0//EN
METHOD:PUBLISH
X-PUBLISHED-TTL:P3D
REFRESH-INTERVAL:P3D
CALSCALE:GREGORIAN
BEGIN:VEVENT
DTSTART:20230331T213000Z
DTEND:20230401T000000Z
X-MICROSOFT-CDO-ALLDAYEVENT:FALSE
SUMMARY:Boozy Book Fair
DESCRIPTION:Like a school book fair with fun titles and beer! Brian & Joed from Gravity Storm\, and Lisa from Sweet Reads are teaming up to recreate your Scholastic book fair - but with better books AND book-related drinks! You will be surprised at the book titles! \n\n\n\nMEMBERS OF EPIC - please register for a headcount for beverages.
X-ALT-DESC;FMTTYPE=text/html:Like a school book fair with fun titles and beer! Brian &amp\; Joed from Gravity Storm\, and Lisa from Sweet Reads are teaming up to recreate your Scholastic book fair - but with better books AND book-related drinks! You will be surprised at the book titles!&nbsp\;<br />\n<br />\n<strong>MEMBERS OF EPIC</strong> - please register for a headcount for beverages.
LOCATION:Gravity Storm Brewery 309 Main St N\, Austin
UID:e.343.4850
SEQUENCE:3
DTSTAMP:20260421T051038Z
URL:https://austincoc-gzcms.preview.gochambermaster.com/events/details/boozy-book-fair-4850
END:VEVENT

END:VCALENDAR
