BEGIN:VCALENDAR
VERSION:2.0
PRODID:-//ChamberMaster//Event Calendar 2.0//EN
METHOD:PUBLISH
X-PUBLISHED-TTL:P3D
REFRESH-INTERVAL:P3D
CALSCALE:GREGORIAN
BEGIN:VEVENT
DTSTART:20220526T210000Z
DTEND:20220527T000000Z
X-MICROSOFT-CDO-ALLDAYEVENT:FALSE
SUMMARY:Connecting Young Professionals & Spruce Up Austin
DESCRIPTION:SHADES & DIRT - We are gearing up for our next community event!\n\nCYP & Spruce Up Austin\n\n\n\nPop Up Happy Hour after Community Event!\n\nParticipating members get a FREE CHILLED BEVERAGE @B&J\n\nRSVP Now!
X-ALT-DESC;FMTTYPE=text/html:SHADES &amp\; DIRT - We are gearing up for our next community event!<br />\nCYP &amp\; Spruce Up Austin<br />\n<br />\nPop Up Happy Hour after Community Event!<br />\nParticipating members get a FREE CHILLED BEVERAGE @B&amp\;J<br />\nRSVP Now!
LOCATION:Meeting Location - Sterling Main Street
UID:e.343.4579
SEQUENCE:3
DTSTAMP:20260422T073923Z
URL:https://austincoc-gzcms.preview.gochambermaster.com/events/details/connecting-young-professionals-spruce-up-austin-4579
END:VEVENT

END:VCALENDAR
