BEGIN:VCALENDAR
VERSION:2.0
PRODID:-//ChamberMaster//Event Calendar 2.0//EN
METHOD:PUBLISH
X-PUBLISHED-TTL:P3D
REFRESH-INTERVAL:P3D
CALSCALE:GREGORIAN
BEGIN:VEVENT
DTSTART:20230313T140000Z
DTEND:20230313T150000Z
X-MICROSOFT-CDO-ALLDAYEVENT:FALSE
SUMMARY:Downtown Committee
DESCRIPTION:The focus of the March meeting is on SENIOR CITIZENS. How can downtown best serve our older residents and visitors? We have guests\, Lisa Nelson [CEDARS OF AUSTIN] and Joan Hanson [Mower County Senior Center].
X-ALT-DESC;FMTTYPE=text/html:The focus of the March meeting is on SENIOR CITIZENS. How can downtown best serve our older residents and visitors? We have guests\, Lisa Nelson [CEDARS OF AUSTIN] and&nbsp\;Joan Hanson [Mower County Senior Center].
LOCATION:
UID:e.343.4460
SEQUENCE:3
DTSTAMP:20260420T231524Z
URL:https://austincoc-gzcms.preview.gochambermaster.com/events/details/downtown-committee-03-13-2023-4460
END:VEVENT

END:VCALENDAR
