BEGIN:VCALENDAR
VERSION:2.0
PRODID:-//ChamberMaster//Event Calendar 2.0//EN
METHOD:PUBLISH
X-PUBLISHED-TTL:P3D
REFRESH-INTERVAL:P3D
CALSCALE:GREGORIAN
BEGIN:VEVENT
DTSTART:20231007T230000Z
DTEND:20231015T190000Z
X-MICROSOFT-CDO-ALLDAYEVENT:FALSE
SUMMARY:Once Upon a Mattress Musical
DESCRIPTION:Performances Saturday - Sunday October 7 & 14 at 6 PM October 8 & 15 at 2 PM Don't miss this! Many moons ago in a far-off place\, Queen Aggravain decreed no couples could marry until her son\, Prince Dauntless\, found a bride. Princesses came from far and wide to win the hand of the prince\, but none could pass the impossible tests given to them by the Queen. That is\, until the "shy" swamp princess\, Winnifred the Woebegone\, showed up. Carried on a wave of wonderful songs\, by turns hilarious and raucous\, romantic and melodic\, this rollicking spin on the classic tale The Princess and the Pea provides some side-splitting shenanigans. For after all\, a princess is a delicate thing. TICKETS Adult $ 9 Student $ 7 Senior $ 7 Ticket Reservations when emailing include following: * Date show requested *Number of tickets ( for each age group\, adult\, student\, senior\, child up to 4 yrs)\\ * seating location request (upstairs\, downstairs\, handicap) Email losmusicalreservations@gmail.com INFORMATION: 507-440-3060
X-ALT-DESC;FMTTYPE=text/html:Performances Saturday - Sunday October 7 &amp\; 14 at 6 PM October 8 &amp\; 15 at 2 PM Don&#39\;t miss this! Many moons ago in a far-off place\, Queen Aggravain decreed no couples could marry until her son\, Prince Dauntless\, found a bride. Princesses came from far and wide to win the hand of the prince\, but none could pass the impossible tests given to them by the Queen. That is\, until the &ldquo\;shy&rdquo\; swamp princess\, Winnifred the Woebegone\, showed up. Carried on a wave of wonderful songs\, by turns hilarious and raucous\, romantic and melodic\, this rollicking spin on the classic tale The Princess and the Pea provides some side-splitting shenanigans. For after all\, a princess is a delicate thing. TICKETS Adult $ 9 Student $ 7 Senior $ 7 Ticket Reservations when emailing include following: * Date show requested *Number of tickets ( for each age group\, adult\, student\, senior\, child up to 4 yrs)\\ * seating location request (upstairs\, downstairs\, handicap) Email losmusicalreservations@gmail.com INFORMATION: 507-440-3060
LOCATION:Southland Public School
UID:e.343.5236
SEQUENCE:3
DTSTAMP:20260419T211320Z
URL:https://austincoc-gzcms.preview.gochambermaster.com/events/details/once-upon-a-mattress-musical-5236
END:VEVENT

END:VCALENDAR
