BEGIN:VCALENDAR
VERSION:2.0
PRODID:-//ChamberMaster//Event Calendar 2.0//EN
METHOD:PUBLISH
X-PUBLISHED-TTL:P3D
REFRESH-INTERVAL:P3D
CALSCALE:GREGORIAN
BEGIN:VEVENT
DTSTART:20231118T173000Z
DTEND:20231118T190000Z
X-MICROSOFT-CDO-ALLDAYEVENT:FALSE
SUMMARY:Snacks & Santa Elf Show
DESCRIPTION:Snacks & Santa with Elf Show\n\n$7 per person\; children 2 and under are free but you must "purchase" a "2 & Under" ticket for them\, so we can keep track of overall guest count\n\nThis seating time is 11:30am-1:00pm (Elf Show at 12:30pm)\n\nDoors will open at 11:30 am\n\nWhile you wait for the show to begin: Enjoy a snack and hot chocolate.  Tour the historic house museum decorated for the season.  Visit with Santa and have your picture taken. Take a craft home to create and hang on your tree.  This event will likely sell out\, please make sure to arrive at your registered time.  We may not be able to accommodate you if you arrive at the other seating. \n\nPurchasing a ticket to this fundraiser supports the preservation and mission of the Hormel Historic Home\, an independent 501(c)3 nonprofit organization. We thank you for your support in the past\, today\, and into the future!  Ticket is non-refundable.\n\n*HHH Members wishing to utilize their Holiday Event voucher should call the HHH Office to reserve your spot.  507-433-424
X-ALT-DESC;FMTTYPE=text/html:<p style="box-sizing: border-box\; margin: 0px 0px 1rem\; padding: 0px\;">Snacks &amp\; Santa with Elf Show</p>\n\n<p style="box-sizing: border-box\; margin: 0px 0px 1rem\; padding: 0px\;">$7 per person\; children 2 and under are free&nbsp\;<u style="box-sizing: border-box\; margin: 0px\; padding: 0px\;">but you must &quot\;purchase&quot\; a &quot\;2 &amp\; Under&quot\; ticket for them\,</u>&nbsp\;so we can keep track of overall guest count</p>\n\n<p style="box-sizing: border-box\; margin: 0px 0px 1rem\; padding: 0px\;">This seating time is 11:30am-1:00pm (Elf Show at 12:30pm)</p>\n\n<p style="box-sizing: border-box\; margin: 0px 0px 1rem\; padding: 0px\;">Doors will open at 11:30 am</p>\n\n<p style="box-sizing: border-box\; margin: 0px 0px 1rem\; padding: 0px\;">While you wait for the show to begin: Enjoy a snack and hot chocolate.&nbsp\; Tour the historic house museum decorated for the season.&nbsp\; Visit with Santa and have your picture taken. Take a craft home to create and hang on your tree.&nbsp\; This event will likely sell out\, please make sure to arrive at your registered time.&nbsp\; We may not be able to accommodate you if you arrive at the other seating.&nbsp\;</p>\n\n<p style="box-sizing: border-box\; margin: 0px 0px 1rem\; padding: 0px\;">Purchasing a ticket to this fundraiser supports the preservation and mission of the Hormel Historic Home\, an independent 501(c)3 nonprofit organization. We thank you for your support in the past\, today\, and into the future!&nbsp\; Ticket is non-refundable.</p>\n\n<p style="box-sizing: border-box\; margin: 0px 0px 1rem\; padding: 0px\;"><i style="box-sizing: border-box\; margin: 0px\; padding: 0px\;">*HHH Members wishing to utilize their Holiday Event voucher should call the HHH Office to reserve your spot.&nbsp\; 507-433-424</i></p>\n
LOCATION:Hormel Historic Home 208 4th Ave. NW Austin MN 55912
UID:e.343.5264
SEQUENCE:3
DTSTAMP:20260419T192008Z
URL:https://austincoc-gzcms.preview.gochambermaster.com/events/details/snacks-santa-elf-show-5264
END:VEVENT

END:VCALENDAR
